BEGIN:VCALENDAR
VERSION:2.0
PRODID:-//Colquitt Regional Health System - ECPv6.15.17//NONSGML v1.0//EN
CALSCALE:GREGORIAN
METHOD:PUBLISH
X-WR-CALNAME:Colquitt Regional Health System
X-ORIGINAL-URL:https://colquittregional.com
X-WR-CALDESC:Events for Colquitt Regional Health System
REFRESH-INTERVAL;VALUE=DURATION:PT1H
X-Robots-Tag:noindex
X-PUBLISHED-TTL:PT1H
BEGIN:VTIMEZONE
TZID:UTC
BEGIN:STANDARD
TZOFFSETFROM:+0000
TZOFFSETTO:+0000
TZNAME:UTC
DTSTART:20240101T000000
END:STANDARD
END:VTIMEZONE
BEGIN:VEVENT
DTSTART;TZID=UTC:20250926T090000
DTEND;TZID=UTC:20250926T120000
DTSTAMP:20260419T112958
CREATED:20250916T191702Z
LAST-MODIFIED:20250916T191702Z
UID:10000784-1758877200-1758888000@colquittregional.com
SUMMARY:Microsoft Excel Training - Level 2
DESCRIPTION:
URL:https://colquittregional.com/event/microsoft-excel-training-level-2/
LOCATION:Ameris Bank Medical Education Center
CATEGORIES:Education Services Calendar
END:VEVENT
END:VCALENDAR