BEGIN:VCALENDAR
VERSION:2.0
PRODID:-//Colquitt Regional Health System - ECPv6.15.17//NONSGML v1.0//EN
CALSCALE:GREGORIAN
METHOD:PUBLISH
X-ORIGINAL-URL:https://colquittregional.com
X-WR-CALDESC:Events for Colquitt Regional Health System
REFRESH-INTERVAL;VALUE=DURATION:PT1H
X-Robots-Tag:noindex
X-PUBLISHED-TTL:PT1H
BEGIN:VTIMEZONE
TZID:UTC
BEGIN:STANDARD
TZOFFSETFROM:+0000
TZOFFSETTO:+0000
TZNAME:UTC
DTSTART:20250101T000000
END:STANDARD
END:VTIMEZONE
BEGIN:VEVENT
DTSTART;TZID=UTC:20260420T083000
DTEND;TZID=UTC:20260420T170000
DTSTAMP:20260419T165321
CREATED:20251223T184621Z
LAST-MODIFIED:20260106T214930Z
UID:10000886-1776673800-1776704400@colquittregional.com
SUMMARY:AEGIS De-escalation Training
DESCRIPTION:
URL:https://colquittregional.com/event/aegis-de-escalation-training-5/2026-04-20/
LOCATION:Ameris Bank Medical Education Center
CATEGORIES:Education Services Calendar
END:VEVENT
BEGIN:VEVENT
DTSTART;TZID=UTC:20260427T083000
DTEND;TZID=UTC:20260427T170000
DTSTAMP:20260419T165321
CREATED:20251223T184621Z
LAST-MODIFIED:20260106T214930Z
UID:10000854-1777278600-1777309200@colquittregional.com
SUMMARY:AEGIS De-escalation Training
DESCRIPTION:
URL:https://colquittregional.com/event/aegis-de-escalation-training-5/2026-04-27/
LOCATION:Ameris Bank Medical Education Center
CATEGORIES:Education Services Calendar
END:VEVENT
BEGIN:VEVENT
DTSTART;TZID=UTC:20260608T083000
DTEND;TZID=UTC:20260608T170000
DTSTAMP:20260419T165321
CREATED:20251223T184621Z
LAST-MODIFIED:20260106T214930Z
UID:10000855-1780907400-1780938000@colquittregional.com
SUMMARY:AEGIS De-escalation Training
DESCRIPTION:
URL:https://colquittregional.com/event/aegis-de-escalation-training-5/2026-06-08/
LOCATION:Ameris Bank Medical Education Center
CATEGORIES:Education Services Calendar
END:VEVENT
BEGIN:VEVENT
DTSTART;TZID=UTC:20260720T083000
DTEND;TZID=UTC:20260720T170000
DTSTAMP:20260419T165321
CREATED:20251223T184621Z
LAST-MODIFIED:20260106T214930Z
UID:10000856-1784536200-1784566800@colquittregional.com
SUMMARY:AEGIS De-escalation Training
DESCRIPTION:
URL:https://colquittregional.com/event/aegis-de-escalation-training-5/2026-07-20/
LOCATION:Ameris Bank Medical Education Center
CATEGORIES:Education Services Calendar
END:VEVENT
BEGIN:VEVENT
DTSTART;TZID=UTC:20260817T083000
DTEND;TZID=UTC:20260817T170000
DTSTAMP:20260419T165321
CREATED:20251223T184621Z
LAST-MODIFIED:20260106T214930Z
UID:10000857-1786955400-1786986000@colquittregional.com
SUMMARY:AEGIS De-escalation Training
DESCRIPTION:
URL:https://colquittregional.com/event/aegis-de-escalation-training-5/2026-08-17/
LOCATION:Ameris Bank Medical Education Center
CATEGORIES:Education Services Calendar
END:VEVENT
BEGIN:VEVENT
DTSTART;TZID=UTC:20260914T083000
DTEND;TZID=UTC:20260914T170000
DTSTAMP:20260419T165321
CREATED:20251223T184621Z
LAST-MODIFIED:20260106T214930Z
UID:10000858-1789374600-1789405200@colquittregional.com
SUMMARY:AEGIS De-escalation Training
DESCRIPTION:
URL:https://colquittregional.com/event/aegis-de-escalation-training-5/2026-09-14/
LOCATION:Ameris Bank Medical Education Center
CATEGORIES:Education Services Calendar
END:VEVENT
BEGIN:VEVENT
DTSTART;TZID=UTC:20261026T083000
DTEND;TZID=UTC:20261026T170000
DTSTAMP:20260419T165321
CREATED:20251223T184621Z
LAST-MODIFIED:20260106T214930Z
UID:10000859-1793003400-1793034000@colquittregional.com
SUMMARY:AEGIS De-escalation Training
DESCRIPTION:
URL:https://colquittregional.com/event/aegis-de-escalation-training-5/2026-10-26/
LOCATION:Ameris Bank Medical Education Center
CATEGORIES:Education Services Calendar
END:VEVENT
BEGIN:VEVENT
DTSTART;TZID=UTC:20261109T083000
DTEND;TZID=UTC:20261109T170000
DTSTAMP:20260419T165321
CREATED:20251223T184621Z
LAST-MODIFIED:20260106T214930Z
UID:10000860-1794213000-1794243600@colquittregional.com
SUMMARY:AEGIS De-escalation Training
DESCRIPTION:
URL:https://colquittregional.com/event/aegis-de-escalation-training-5/2026-11-09/
LOCATION:Ameris Bank Medical Education Center
CATEGORIES:Education Services Calendar
END:VEVENT
BEGIN:VEVENT
DTSTART;TZID=UTC:20261207T083000
DTEND;TZID=UTC:20261207T170000
DTSTAMP:20260419T165321
CREATED:20251223T184621Z
LAST-MODIFIED:20260106T214930Z
UID:10000861-1796632200-1796662800@colquittregional.com
SUMMARY:AEGIS De-escalation Training
DESCRIPTION:
URL:https://colquittregional.com/event/aegis-de-escalation-training-5/2026-12-07/
LOCATION:Ameris Bank Medical Education Center
CATEGORIES:Education Services Calendar
END:VEVENT
END:VCALENDAR