BEGIN:VCALENDAR
VERSION:2.0
PRODID:-//Colquitt Regional Health System - ECPv6.15.17//NONSGML v1.0//EN
CALSCALE:GREGORIAN
METHOD:PUBLISH
X-ORIGINAL-URL:https://colquittregional.com
X-WR-CALDESC:Events for Colquitt Regional Health System
REFRESH-INTERVAL;VALUE=DURATION:PT1H
X-Robots-Tag:noindex
X-PUBLISHED-TTL:PT1H
BEGIN:VTIMEZONE
TZID:UTC
BEGIN:STANDARD
TZOFFSETFROM:+0000
TZOFFSETTO:+0000
TZNAME:UTC
DTSTART:20260101T000000
END:STANDARD
END:VTIMEZONE
BEGIN:VEVENT
DTSTART;TZID=UTC:20270512T120000
DTEND;TZID=UTC:20270512T133000
DTSTAMP:20260421T210313
CREATED:20250910T120108Z
LAST-MODIFIED:20250910T120108Z
UID:10000137-1810123200-1810128600@colquittregional.com
SUMMARY:Employee Committee
DESCRIPTION:
URL:https://colquittregional.com/event/employee-committee-2/2027-05-12/
CATEGORIES:Education Services Calendar
END:VEVENT
BEGIN:VEVENT
DTSTART;TZID=UTC:20270609T120000
DTEND;TZID=UTC:20270609T133000
DTSTAMP:20260421T210313
CREATED:20250910T120108Z
LAST-MODIFIED:20250910T120108Z
UID:10000138-1812542400-1812547800@colquittregional.com
SUMMARY:Employee Committee
DESCRIPTION:
URL:https://colquittregional.com/event/employee-committee-2/2027-06-09/
CATEGORIES:Education Services Calendar
END:VEVENT
BEGIN:VEVENT
DTSTART;TZID=UTC:20270714T120000
DTEND;TZID=UTC:20270714T133000
DTSTAMP:20260421T210313
CREATED:20250910T120108Z
LAST-MODIFIED:20250910T120108Z
UID:10000139-1815566400-1815571800@colquittregional.com
SUMMARY:Employee Committee
DESCRIPTION:
URL:https://colquittregional.com/event/employee-committee-2/2027-07-14/
CATEGORIES:Education Services Calendar
END:VEVENT
BEGIN:VEVENT
DTSTART;TZID=UTC:20270811T120000
DTEND;TZID=UTC:20270811T133000
DTSTAMP:20260421T210313
CREATED:20250910T120108Z
LAST-MODIFIED:20250910T120108Z
UID:10000140-1817985600-1817991000@colquittregional.com
SUMMARY:Employee Committee
DESCRIPTION:
URL:https://colquittregional.com/event/employee-committee-2/2027-08-11/
CATEGORIES:Education Services Calendar
END:VEVENT
BEGIN:VEVENT
DTSTART;TZID=UTC:20270908T120000
DTEND;TZID=UTC:20270908T133000
DTSTAMP:20260421T210313
CREATED:20250910T120108Z
LAST-MODIFIED:20250910T120108Z
UID:10000141-1820404800-1820410200@colquittregional.com
SUMMARY:Employee Committee
DESCRIPTION:
URL:https://colquittregional.com/event/employee-committee-2/2027-09-08/
CATEGORIES:Education Services Calendar
END:VEVENT
BEGIN:VEVENT
DTSTART;TZID=UTC:20271013T120000
DTEND;TZID=UTC:20271013T133000
DTSTAMP:20260421T210313
CREATED:20250910T120108Z
LAST-MODIFIED:20250910T120108Z
UID:10000142-1823428800-1823434200@colquittregional.com
SUMMARY:Employee Committee
DESCRIPTION:
URL:https://colquittregional.com/event/employee-committee-2/2027-10-13/
CATEGORIES:Education Services Calendar
END:VEVENT
BEGIN:VEVENT
DTSTART;TZID=UTC:20271110T120000
DTEND;TZID=UTC:20271110T133000
DTSTAMP:20260421T210313
CREATED:20250910T120108Z
LAST-MODIFIED:20250910T120108Z
UID:10000143-1825848000-1825853400@colquittregional.com
SUMMARY:Employee Committee
DESCRIPTION:
URL:https://colquittregional.com/event/employee-committee-2/2027-11-10/
CATEGORIES:Education Services Calendar
END:VEVENT
BEGIN:VEVENT
DTSTART;TZID=UTC:20271208T120000
DTEND;TZID=UTC:20271208T133000
DTSTAMP:20260421T210313
CREATED:20250910T120108Z
LAST-MODIFIED:20250910T120108Z
UID:10000144-1828267200-1828272600@colquittregional.com
SUMMARY:Employee Committee
DESCRIPTION:
URL:https://colquittregional.com/event/employee-committee-2/2027-12-08/
CATEGORIES:Education Services Calendar
END:VEVENT
BEGIN:VEVENT
DTSTART;TZID=UTC:20280112T120000
DTEND;TZID=UTC:20280112T133000
DTSTAMP:20260421T210313
CREATED:20250910T120108Z
LAST-MODIFIED:20250910T120108Z
UID:10000145-1831291200-1831296600@colquittregional.com
SUMMARY:Employee Committee
DESCRIPTION:
URL:https://colquittregional.com/event/employee-committee-2/2028-01-12/
CATEGORIES:Education Services Calendar
END:VEVENT
BEGIN:VEVENT
DTSTART;TZID=UTC:20280209T120000
DTEND;TZID=UTC:20280209T133000
DTSTAMP:20260421T210313
CREATED:20250910T120108Z
LAST-MODIFIED:20250910T120108Z
UID:10000146-1833710400-1833715800@colquittregional.com
SUMMARY:Employee Committee
DESCRIPTION:
URL:https://colquittregional.com/event/employee-committee-2/2028-02-09/
CATEGORIES:Education Services Calendar
END:VEVENT
BEGIN:VEVENT
DTSTART;TZID=UTC:20280308T120000
DTEND;TZID=UTC:20280308T133000
DTSTAMP:20260421T210313
CREATED:20250910T120108Z
LAST-MODIFIED:20250910T120108Z
UID:10000147-1836129600-1836135000@colquittregional.com
SUMMARY:Employee Committee
DESCRIPTION:
URL:https://colquittregional.com/event/employee-committee-2/2028-03-08/
CATEGORIES:Education Services Calendar
END:VEVENT
BEGIN:VEVENT
DTSTART;TZID=UTC:20280412T120000
DTEND;TZID=UTC:20280412T133000
DTSTAMP:20260421T210313
CREATED:20250910T120108Z
LAST-MODIFIED:20250910T120108Z
UID:10000148-1839153600-1839159000@colquittregional.com
SUMMARY:Employee Committee
DESCRIPTION:
URL:https://colquittregional.com/event/employee-committee-2/2028-04-12/
CATEGORIES:Education Services Calendar
END:VEVENT
BEGIN:VEVENT
DTSTART;TZID=UTC:20280510T120000
DTEND;TZID=UTC:20280510T133000
DTSTAMP:20260421T210313
CREATED:20250910T120108Z
LAST-MODIFIED:20250910T120108Z
UID:10000149-1841572800-1841578200@colquittregional.com
SUMMARY:Employee Committee
DESCRIPTION:
URL:https://colquittregional.com/event/employee-committee-2/2028-05-10/
CATEGORIES:Education Services Calendar
END:VEVENT
BEGIN:VEVENT
DTSTART;TZID=UTC:20280614T120000
DTEND;TZID=UTC:20280614T133000
DTSTAMP:20260421T210313
CREATED:20250910T120108Z
LAST-MODIFIED:20250910T120108Z
UID:10000150-1844596800-1844602200@colquittregional.com
SUMMARY:Employee Committee
DESCRIPTION:
URL:https://colquittregional.com/event/employee-committee-2/2028-06-14/
CATEGORIES:Education Services Calendar
END:VEVENT
BEGIN:VEVENT
DTSTART;TZID=UTC:20280712T120000
DTEND;TZID=UTC:20280712T133000
DTSTAMP:20260421T210313
CREATED:20250910T120108Z
LAST-MODIFIED:20250910T120108Z
UID:10000151-1847016000-1847021400@colquittregional.com
SUMMARY:Employee Committee
DESCRIPTION:
URL:https://colquittregional.com/event/employee-committee-2/2028-07-12/
CATEGORIES:Education Services Calendar
END:VEVENT
BEGIN:VEVENT
DTSTART;TZID=UTC:20280809T120000
DTEND;TZID=UTC:20280809T133000
DTSTAMP:20260421T210313
CREATED:20250910T120108Z
LAST-MODIFIED:20250910T120108Z
UID:10000152-1849435200-1849440600@colquittregional.com
SUMMARY:Employee Committee
DESCRIPTION:
URL:https://colquittregional.com/event/employee-committee-2/2028-08-09/
CATEGORIES:Education Services Calendar
END:VEVENT
BEGIN:VEVENT
DTSTART;TZID=UTC:20280913T120000
DTEND;TZID=UTC:20280913T133000
DTSTAMP:20260421T210313
CREATED:20250910T120108Z
LAST-MODIFIED:20250910T120108Z
UID:10000153-1852459200-1852464600@colquittregional.com
SUMMARY:Employee Committee
DESCRIPTION:
URL:https://colquittregional.com/event/employee-committee-2/2028-09-13/
CATEGORIES:Education Services Calendar
END:VEVENT
BEGIN:VEVENT
DTSTART;TZID=UTC:20281011T120000
DTEND;TZID=UTC:20281011T133000
DTSTAMP:20260421T210313
CREATED:20250910T120108Z
LAST-MODIFIED:20250910T120108Z
UID:10000154-1854878400-1854883800@colquittregional.com
SUMMARY:Employee Committee
DESCRIPTION:
URL:https://colquittregional.com/event/employee-committee-2/2028-10-11/
CATEGORIES:Education Services Calendar
END:VEVENT
BEGIN:VEVENT
DTSTART;TZID=UTC:20281108T120000
DTEND;TZID=UTC:20281108T133000
DTSTAMP:20260421T210313
CREATED:20250910T120108Z
LAST-MODIFIED:20250910T120108Z
UID:10000155-1857297600-1857303000@colquittregional.com
SUMMARY:Employee Committee
DESCRIPTION:
URL:https://colquittregional.com/event/employee-committee-2/2028-11-08/
CATEGORIES:Education Services Calendar
END:VEVENT
BEGIN:VEVENT
DTSTART;TZID=UTC:20281213T120000
DTEND;TZID=UTC:20281213T133000
DTSTAMP:20260421T210313
CREATED:20250910T120108Z
LAST-MODIFIED:20250910T120108Z
UID:10000156-1860321600-1860327000@colquittregional.com
SUMMARY:Employee Committee
DESCRIPTION:
URL:https://colquittregional.com/event/employee-committee-2/2028-12-13/
CATEGORIES:Education Services Calendar
END:VEVENT
BEGIN:VEVENT
DTSTART;TZID=UTC:20290110T120000
DTEND;TZID=UTC:20290110T133000
DTSTAMP:20260421T210313
CREATED:20250910T120108Z
LAST-MODIFIED:20250910T120108Z
UID:10000157-1862740800-1862746200@colquittregional.com
SUMMARY:Employee Committee
DESCRIPTION:
URL:https://colquittregional.com/event/employee-committee-2/2029-01-10/
CATEGORIES:Education Services Calendar
END:VEVENT
BEGIN:VEVENT
DTSTART;TZID=UTC:20290214T120000
DTEND;TZID=UTC:20290214T133000
DTSTAMP:20260421T210313
CREATED:20250910T120108Z
LAST-MODIFIED:20250910T120108Z
UID:10000158-1865764800-1865770200@colquittregional.com
SUMMARY:Employee Committee
DESCRIPTION:
URL:https://colquittregional.com/event/employee-committee-2/2029-02-14/
CATEGORIES:Education Services Calendar
END:VEVENT
BEGIN:VEVENT
DTSTART;TZID=UTC:20290314T120000
DTEND;TZID=UTC:20290314T133000
DTSTAMP:20260421T210313
CREATED:20250910T120108Z
LAST-MODIFIED:20250910T120108Z
UID:10000159-1868184000-1868189400@colquittregional.com
SUMMARY:Employee Committee
DESCRIPTION:
URL:https://colquittregional.com/event/employee-committee-2/2029-03-14/
CATEGORIES:Education Services Calendar
END:VEVENT
BEGIN:VEVENT
DTSTART;TZID=UTC:20290411T120000
DTEND;TZID=UTC:20290411T133000
DTSTAMP:20260421T210313
CREATED:20250910T120108Z
LAST-MODIFIED:20250910T120108Z
UID:10000160-1870603200-1870608600@colquittregional.com
SUMMARY:Employee Committee
DESCRIPTION:
URL:https://colquittregional.com/event/employee-committee-2/2029-04-11/
CATEGORIES:Education Services Calendar
END:VEVENT
BEGIN:VEVENT
DTSTART;TZID=UTC:20290509T120000
DTEND;TZID=UTC:20290509T133000
DTSTAMP:20260421T210313
CREATED:20250910T120108Z
LAST-MODIFIED:20250910T120108Z
UID:10000161-1873022400-1873027800@colquittregional.com
SUMMARY:Employee Committee
DESCRIPTION:
URL:https://colquittregional.com/event/employee-committee-2/2029-05-09/
CATEGORIES:Education Services Calendar
END:VEVENT
BEGIN:VEVENT
DTSTART;TZID=UTC:20290613T120000
DTEND;TZID=UTC:20290613T133000
DTSTAMP:20260421T210313
CREATED:20250910T120108Z
LAST-MODIFIED:20250910T120108Z
UID:10000162-1876046400-1876051800@colquittregional.com
SUMMARY:Employee Committee
DESCRIPTION:
URL:https://colquittregional.com/event/employee-committee-2/2029-06-13/
CATEGORIES:Education Services Calendar
END:VEVENT
BEGIN:VEVENT
DTSTART;TZID=UTC:20290711T120000
DTEND;TZID=UTC:20290711T133000
DTSTAMP:20260421T210313
CREATED:20250910T120108Z
LAST-MODIFIED:20250910T120108Z
UID:10000163-1878465600-1878471000@colquittregional.com
SUMMARY:Employee Committee
DESCRIPTION:
URL:https://colquittregional.com/event/employee-committee-2/2029-07-11/
CATEGORIES:Education Services Calendar
END:VEVENT
BEGIN:VEVENT
DTSTART;TZID=UTC:20290808T120000
DTEND;TZID=UTC:20290808T133000
DTSTAMP:20260421T210313
CREATED:20250910T120108Z
LAST-MODIFIED:20250910T120108Z
UID:10000164-1880884800-1880890200@colquittregional.com
SUMMARY:Employee Committee
DESCRIPTION:
URL:https://colquittregional.com/event/employee-committee-2/2029-08-08/
CATEGORIES:Education Services Calendar
END:VEVENT
BEGIN:VEVENT
DTSTART;TZID=UTC:20290912T120000
DTEND;TZID=UTC:20290912T133000
DTSTAMP:20260421T210313
CREATED:20250910T120108Z
LAST-MODIFIED:20250910T120108Z
UID:10000165-1883908800-1883914200@colquittregional.com
SUMMARY:Employee Committee
DESCRIPTION:
URL:https://colquittregional.com/event/employee-committee-2/2029-09-12/
CATEGORIES:Education Services Calendar
END:VEVENT
BEGIN:VEVENT
DTSTART;TZID=UTC:20291010T120000
DTEND;TZID=UTC:20291010T133000
DTSTAMP:20260421T210313
CREATED:20250910T120108Z
LAST-MODIFIED:20250910T120108Z
UID:10000166-1886328000-1886333400@colquittregional.com
SUMMARY:Employee Committee
DESCRIPTION:
URL:https://colquittregional.com/event/employee-committee-2/2029-10-10/
CATEGORIES:Education Services Calendar
END:VEVENT
END:VCALENDAR