BEGIN:VCALENDAR
VERSION:2.0
PRODID:-//Colquitt Regional Health System - ECPv6.15.17//NONSGML v1.0//EN
CALSCALE:GREGORIAN
METHOD:PUBLISH
X-WR-CALNAME:Colquitt Regional Health System
X-ORIGINAL-URL:https://colquittregional.com
X-WR-CALDESC:Events for Colquitt Regional Health System
REFRESH-INTERVAL;VALUE=DURATION:PT1H
X-Robots-Tag:noindex
X-PUBLISHED-TTL:PT1H
BEGIN:VTIMEZONE
TZID:UTC
BEGIN:STANDARD
TZOFFSETFROM:+0000
TZOFFSETTO:+0000
TZNAME:UTC
DTSTART:20290101T000000
END:STANDARD
END:VTIMEZONE
BEGIN:VEVENT
DTSTART;TZID=UTC:20300515T133000
DTEND;TZID=UTC:20300515T173000
DTSTAMP:20260424T083420
CREATED:20250910T120307Z
LAST-MODIFIED:20250910T120307Z
UID:10000421-1905082200-1905096600@colquittregional.com
SUMMARY:Academic Half Day
DESCRIPTION:
URL:https://colquittregional.com/event/academic-half-day-2/2030-05-15/
LOCATION:Ameris Bank Medical Education Center
CATEGORIES:Education Services Calendar
END:VEVENT
BEGIN:VEVENT
DTSTART;TZID=UTC:20300522T133000
DTEND;TZID=UTC:20300522T173000
DTSTAMP:20260424T083420
CREATED:20250910T120307Z
LAST-MODIFIED:20250910T120307Z
UID:10000422-1905687000-1905701400@colquittregional.com
SUMMARY:Academic Half Day
DESCRIPTION:
URL:https://colquittregional.com/event/academic-half-day-2/2030-05-22/
LOCATION:Ameris Bank Medical Education Center
CATEGORIES:Education Services Calendar
END:VEVENT
BEGIN:VEVENT
DTSTART;TZID=UTC:20300529T133000
DTEND;TZID=UTC:20300529T173000
DTSTAMP:20260424T083420
CREATED:20250910T120307Z
LAST-MODIFIED:20250910T120307Z
UID:10000423-1906291800-1906306200@colquittregional.com
SUMMARY:Academic Half Day
DESCRIPTION:
URL:https://colquittregional.com/event/academic-half-day-2/2030-05-29/
LOCATION:Ameris Bank Medical Education Center
CATEGORIES:Education Services Calendar
END:VEVENT
BEGIN:VEVENT
DTSTART;TZID=UTC:20300605T133000
DTEND;TZID=UTC:20300605T173000
DTSTAMP:20260424T083420
CREATED:20250910T120307Z
LAST-MODIFIED:20250910T120307Z
UID:10000424-1906896600-1906911000@colquittregional.com
SUMMARY:Academic Half Day
DESCRIPTION:
URL:https://colquittregional.com/event/academic-half-day-2/2030-06-05/
LOCATION:Ameris Bank Medical Education Center
CATEGORIES:Education Services Calendar
END:VEVENT
BEGIN:VEVENT
DTSTART;TZID=UTC:20300612T133000
DTEND;TZID=UTC:20300612T173000
DTSTAMP:20260424T083420
CREATED:20250910T120307Z
LAST-MODIFIED:20250910T120307Z
UID:10000425-1907501400-1907515800@colquittregional.com
SUMMARY:Academic Half Day
DESCRIPTION:
URL:https://colquittregional.com/event/academic-half-day-2/2030-06-12/
LOCATION:Ameris Bank Medical Education Center
CATEGORIES:Education Services Calendar
END:VEVENT
BEGIN:VEVENT
DTSTART;TZID=UTC:20300619T133000
DTEND;TZID=UTC:20300619T173000
DTSTAMP:20260424T083420
CREATED:20250910T120307Z
LAST-MODIFIED:20250910T120307Z
UID:10000426-1908106200-1908120600@colquittregional.com
SUMMARY:Academic Half Day
DESCRIPTION:
URL:https://colquittregional.com/event/academic-half-day-2/2030-06-19/
LOCATION:Ameris Bank Medical Education Center
CATEGORIES:Education Services Calendar
END:VEVENT
BEGIN:VEVENT
DTSTART;TZID=UTC:20300626T133000
DTEND;TZID=UTC:20300626T173000
DTSTAMP:20260424T083420
CREATED:20250910T120307Z
LAST-MODIFIED:20250910T120307Z
UID:10000427-1908711000-1908725400@colquittregional.com
SUMMARY:Academic Half Day
DESCRIPTION:
URL:https://colquittregional.com/event/academic-half-day-2/2030-06-26/
LOCATION:Ameris Bank Medical Education Center
CATEGORIES:Education Services Calendar
END:VEVENT
BEGIN:VEVENT
DTSTART;TZID=UTC:20300703T133000
DTEND;TZID=UTC:20300703T173000
DTSTAMP:20260424T083420
CREATED:20250910T120307Z
LAST-MODIFIED:20250910T120307Z
UID:10000428-1909315800-1909330200@colquittregional.com
SUMMARY:Academic Half Day
DESCRIPTION:
URL:https://colquittregional.com/event/academic-half-day-2/2030-07-03/
LOCATION:Ameris Bank Medical Education Center
CATEGORIES:Education Services Calendar
END:VEVENT
BEGIN:VEVENT
DTSTART;TZID=UTC:20300710T133000
DTEND;TZID=UTC:20300710T173000
DTSTAMP:20260424T083420
CREATED:20250910T120307Z
LAST-MODIFIED:20250910T120307Z
UID:10000429-1909920600-1909935000@colquittregional.com
SUMMARY:Academic Half Day
DESCRIPTION:
URL:https://colquittregional.com/event/academic-half-day-2/2030-07-10/
LOCATION:Ameris Bank Medical Education Center
CATEGORIES:Education Services Calendar
END:VEVENT
BEGIN:VEVENT
DTSTART;TZID=UTC:20300717T133000
DTEND;TZID=UTC:20300717T173000
DTSTAMP:20260424T083420
CREATED:20250910T120307Z
LAST-MODIFIED:20250910T120307Z
UID:10000430-1910525400-1910539800@colquittregional.com
SUMMARY:Academic Half Day
DESCRIPTION:
URL:https://colquittregional.com/event/academic-half-day-2/2030-07-17/
LOCATION:Ameris Bank Medical Education Center
CATEGORIES:Education Services Calendar
END:VEVENT
BEGIN:VEVENT
DTSTART;TZID=UTC:20300724T133000
DTEND;TZID=UTC:20300724T173000
DTSTAMP:20260424T083420
CREATED:20250910T120307Z
LAST-MODIFIED:20250910T120307Z
UID:10000431-1911130200-1911144600@colquittregional.com
SUMMARY:Academic Half Day
DESCRIPTION:
URL:https://colquittregional.com/event/academic-half-day-2/2030-07-24/
LOCATION:Ameris Bank Medical Education Center
CATEGORIES:Education Services Calendar
END:VEVENT
BEGIN:VEVENT
DTSTART;TZID=UTC:20300731T133000
DTEND;TZID=UTC:20300731T173000
DTSTAMP:20260424T083420
CREATED:20250910T120307Z
LAST-MODIFIED:20250910T120307Z
UID:10000432-1911735000-1911749400@colquittregional.com
SUMMARY:Academic Half Day
DESCRIPTION:
URL:https://colquittregional.com/event/academic-half-day-2/2030-07-31/
LOCATION:Ameris Bank Medical Education Center
CATEGORIES:Education Services Calendar
END:VEVENT
BEGIN:VEVENT
DTSTART;TZID=UTC:20300807T133000
DTEND;TZID=UTC:20300807T173000
DTSTAMP:20260424T083420
CREATED:20250910T120307Z
LAST-MODIFIED:20250910T120307Z
UID:10000433-1912339800-1912354200@colquittregional.com
SUMMARY:Academic Half Day
DESCRIPTION:
URL:https://colquittregional.com/event/academic-half-day-2/2030-08-07/
LOCATION:Ameris Bank Medical Education Center
CATEGORIES:Education Services Calendar
END:VEVENT
BEGIN:VEVENT
DTSTART;TZID=UTC:20300814T133000
DTEND;TZID=UTC:20300814T173000
DTSTAMP:20260424T083420
CREATED:20250910T120307Z
LAST-MODIFIED:20250910T120307Z
UID:10000434-1912944600-1912959000@colquittregional.com
SUMMARY:Academic Half Day
DESCRIPTION:
URL:https://colquittregional.com/event/academic-half-day-2/2030-08-14/
LOCATION:Ameris Bank Medical Education Center
CATEGORIES:Education Services Calendar
END:VEVENT
BEGIN:VEVENT
DTSTART;TZID=UTC:20300821T133000
DTEND;TZID=UTC:20300821T173000
DTSTAMP:20260424T083420
CREATED:20250910T120307Z
LAST-MODIFIED:20250910T120307Z
UID:10000435-1913549400-1913563800@colquittregional.com
SUMMARY:Academic Half Day
DESCRIPTION:
URL:https://colquittregional.com/event/academic-half-day-2/2030-08-21/
LOCATION:Ameris Bank Medical Education Center
CATEGORIES:Education Services Calendar
END:VEVENT
BEGIN:VEVENT
DTSTART;TZID=UTC:20300828T133000
DTEND;TZID=UTC:20300828T173000
DTSTAMP:20260424T083420
CREATED:20250910T120307Z
LAST-MODIFIED:20250910T120307Z
UID:10000436-1914154200-1914168600@colquittregional.com
SUMMARY:Academic Half Day
DESCRIPTION:
URL:https://colquittregional.com/event/academic-half-day-2/2030-08-28/
LOCATION:Ameris Bank Medical Education Center
CATEGORIES:Education Services Calendar
END:VEVENT
BEGIN:VEVENT
DTSTART;TZID=UTC:20300904T133000
DTEND;TZID=UTC:20300904T173000
DTSTAMP:20260424T083420
CREATED:20250910T120307Z
LAST-MODIFIED:20250910T120307Z
UID:10000437-1914759000-1914773400@colquittregional.com
SUMMARY:Academic Half Day
DESCRIPTION:
URL:https://colquittregional.com/event/academic-half-day-2/2030-09-04/
LOCATION:Ameris Bank Medical Education Center
CATEGORIES:Education Services Calendar
END:VEVENT
END:VCALENDAR