BEGIN:VCALENDAR
VERSION:2.0
PRODID:-//Colquitt Regional Health System - ECPv6.15.17//NONSGML v1.0//EN
CALSCALE:GREGORIAN
METHOD:PUBLISH
X-ORIGINAL-URL:https://colquittregional.com
X-WR-CALDESC:Events for Colquitt Regional Health System
REFRESH-INTERVAL;VALUE=DURATION:PT1H
X-Robots-Tag:noindex
X-PUBLISHED-TTL:PT1H
BEGIN:VTIMEZONE
TZID:UTC
BEGIN:STANDARD
TZOFFSETFROM:+0000
TZOFFSETTO:+0000
TZNAME:UTC
DTSTART:20250101T000000
END:STANDARD
END:VTIMEZONE
BEGIN:VEVENT
DTSTART;TZID=UTC:20260505T090000
DTEND;TZID=UTC:20260505T150000
DTSTAMP:20260419T141457
CREATED:20250909T122048Z
LAST-MODIFIED:20250909T122048Z
UID:10000056-1777971600-1777993200@colquittregional.com
SUMMARY:New Nurse Meditech Training
DESCRIPTION:
URL:https://colquittregional.com/event/new-nurse-meditech-training/2026-05-05/
CATEGORIES:Education Services Calendar
END:VEVENT
BEGIN:VEVENT
DTSTART;TZID=UTC:20260602T090000
DTEND;TZID=UTC:20260602T150000
DTSTAMP:20260419T141457
CREATED:20250909T122048Z
LAST-MODIFIED:20250909T122048Z
UID:10000057-1780390800-1780412400@colquittregional.com
SUMMARY:New Nurse Meditech Training
DESCRIPTION:
URL:https://colquittregional.com/event/new-nurse-meditech-training/2026-06-02/
CATEGORIES:Education Services Calendar
END:VEVENT
BEGIN:VEVENT
DTSTART;TZID=UTC:20260707T090000
DTEND;TZID=UTC:20260707T150000
DTSTAMP:20260419T141457
CREATED:20250909T122048Z
LAST-MODIFIED:20250909T122048Z
UID:10000058-1783414800-1783436400@colquittregional.com
SUMMARY:New Nurse Meditech Training
DESCRIPTION:
URL:https://colquittregional.com/event/new-nurse-meditech-training/2026-07-07/
CATEGORIES:Education Services Calendar
END:VEVENT
BEGIN:VEVENT
DTSTART;TZID=UTC:20260804T090000
DTEND;TZID=UTC:20260804T150000
DTSTAMP:20260419T141457
CREATED:20250909T122048Z
LAST-MODIFIED:20250909T122048Z
UID:10000059-1785834000-1785855600@colquittregional.com
SUMMARY:New Nurse Meditech Training
DESCRIPTION:
URL:https://colquittregional.com/event/new-nurse-meditech-training/2026-08-04/
CATEGORIES:Education Services Calendar
END:VEVENT
BEGIN:VEVENT
DTSTART;TZID=UTC:20260901T090000
DTEND;TZID=UTC:20260901T150000
DTSTAMP:20260419T141457
CREATED:20250909T122048Z
LAST-MODIFIED:20250909T122048Z
UID:10000060-1788253200-1788274800@colquittregional.com
SUMMARY:New Nurse Meditech Training
DESCRIPTION:
URL:https://colquittregional.com/event/new-nurse-meditech-training/2026-09-01/
CATEGORIES:Education Services Calendar
END:VEVENT
BEGIN:VEVENT
DTSTART;TZID=UTC:20261006T090000
DTEND;TZID=UTC:20261006T150000
DTSTAMP:20260419T141457
CREATED:20250909T122048Z
LAST-MODIFIED:20250909T122048Z
UID:10000061-1791277200-1791298800@colquittregional.com
SUMMARY:New Nurse Meditech Training
DESCRIPTION:
URL:https://colquittregional.com/event/new-nurse-meditech-training/2026-10-06/
CATEGORIES:Education Services Calendar
END:VEVENT
BEGIN:VEVENT
DTSTART;TZID=UTC:20261103T090000
DTEND;TZID=UTC:20261103T150000
DTSTAMP:20260419T141457
CREATED:20250909T122048Z
LAST-MODIFIED:20250909T122048Z
UID:10000062-1793696400-1793718000@colquittregional.com
SUMMARY:New Nurse Meditech Training
DESCRIPTION:
URL:https://colquittregional.com/event/new-nurse-meditech-training/2026-11-03/
CATEGORIES:Education Services Calendar
END:VEVENT
BEGIN:VEVENT
DTSTART;TZID=UTC:20261201T090000
DTEND;TZID=UTC:20261201T150000
DTSTAMP:20260419T141457
CREATED:20250909T122048Z
LAST-MODIFIED:20250909T122048Z
UID:10000063-1796115600-1796137200@colquittregional.com
SUMMARY:New Nurse Meditech Training
DESCRIPTION:
URL:https://colquittregional.com/event/new-nurse-meditech-training/2026-12-01/
CATEGORIES:Education Services Calendar
END:VEVENT
BEGIN:VEVENT
DTSTART;TZID=UTC:20270105T090000
DTEND;TZID=UTC:20270105T150000
DTSTAMP:20260419T141457
CREATED:20250909T122048Z
LAST-MODIFIED:20250909T122048Z
UID:10000064-1799139600-1799161200@colquittregional.com
SUMMARY:New Nurse Meditech Training
DESCRIPTION:
URL:https://colquittregional.com/event/new-nurse-meditech-training/2027-01-05/
CATEGORIES:Education Services Calendar
END:VEVENT
BEGIN:VEVENT
DTSTART;TZID=UTC:20270202T090000
DTEND;TZID=UTC:20270202T150000
DTSTAMP:20260419T141457
CREATED:20250909T122048Z
LAST-MODIFIED:20250909T122048Z
UID:10000065-1801558800-1801580400@colquittregional.com
SUMMARY:New Nurse Meditech Training
DESCRIPTION:
URL:https://colquittregional.com/event/new-nurse-meditech-training/2027-02-02/
CATEGORIES:Education Services Calendar
END:VEVENT
BEGIN:VEVENT
DTSTART;TZID=UTC:20270302T090000
DTEND;TZID=UTC:20270302T150000
DTSTAMP:20260419T141457
CREATED:20250909T122048Z
LAST-MODIFIED:20250909T122048Z
UID:10000066-1803978000-1803999600@colquittregional.com
SUMMARY:New Nurse Meditech Training
DESCRIPTION:
URL:https://colquittregional.com/event/new-nurse-meditech-training/2027-03-02/
CATEGORIES:Education Services Calendar
END:VEVENT
BEGIN:VEVENT
DTSTART;TZID=UTC:20270406T090000
DTEND;TZID=UTC:20270406T150000
DTSTAMP:20260419T141457
CREATED:20250909T122048Z
LAST-MODIFIED:20250909T122048Z
UID:10000067-1807002000-1807023600@colquittregional.com
SUMMARY:New Nurse Meditech Training
DESCRIPTION:
URL:https://colquittregional.com/event/new-nurse-meditech-training/2027-04-06/
CATEGORIES:Education Services Calendar
END:VEVENT
BEGIN:VEVENT
DTSTART;TZID=UTC:20270504T090000
DTEND;TZID=UTC:20270504T150000
DTSTAMP:20260419T141457
CREATED:20250909T122048Z
LAST-MODIFIED:20250909T122048Z
UID:10000068-1809421200-1809442800@colquittregional.com
SUMMARY:New Nurse Meditech Training
DESCRIPTION:
URL:https://colquittregional.com/event/new-nurse-meditech-training/2027-05-04/
CATEGORIES:Education Services Calendar
END:VEVENT
BEGIN:VEVENT
DTSTART;TZID=UTC:20270601T090000
DTEND;TZID=UTC:20270601T150000
DTSTAMP:20260419T141457
CREATED:20250909T122048Z
LAST-MODIFIED:20250909T122048Z
UID:10000069-1811840400-1811862000@colquittregional.com
SUMMARY:New Nurse Meditech Training
DESCRIPTION:
URL:https://colquittregional.com/event/new-nurse-meditech-training/2027-06-01/
CATEGORIES:Education Services Calendar
END:VEVENT
BEGIN:VEVENT
DTSTART;TZID=UTC:20270706T090000
DTEND;TZID=UTC:20270706T150000
DTSTAMP:20260419T141457
CREATED:20250909T122048Z
LAST-MODIFIED:20250909T122048Z
UID:10000070-1814864400-1814886000@colquittregional.com
SUMMARY:New Nurse Meditech Training
DESCRIPTION:
URL:https://colquittregional.com/event/new-nurse-meditech-training/2027-07-06/
CATEGORIES:Education Services Calendar
END:VEVENT
BEGIN:VEVENT
DTSTART;TZID=UTC:20270803T090000
DTEND;TZID=UTC:20270803T150000
DTSTAMP:20260419T141457
CREATED:20250909T122048Z
LAST-MODIFIED:20250909T122048Z
UID:10000071-1817283600-1817305200@colquittregional.com
SUMMARY:New Nurse Meditech Training
DESCRIPTION:
URL:https://colquittregional.com/event/new-nurse-meditech-training/2027-08-03/
CATEGORIES:Education Services Calendar
END:VEVENT
BEGIN:VEVENT
DTSTART;TZID=UTC:20270907T090000
DTEND;TZID=UTC:20270907T150000
DTSTAMP:20260419T141457
CREATED:20250909T122048Z
LAST-MODIFIED:20250909T122048Z
UID:10000072-1820307600-1820329200@colquittregional.com
SUMMARY:New Nurse Meditech Training
DESCRIPTION:
URL:https://colquittregional.com/event/new-nurse-meditech-training/2027-09-07/
CATEGORIES:Education Services Calendar
END:VEVENT
BEGIN:VEVENT
DTSTART;TZID=UTC:20271005T090000
DTEND;TZID=UTC:20271005T150000
DTSTAMP:20260419T141457
CREATED:20250909T122048Z
LAST-MODIFIED:20250909T122048Z
UID:10000073-1822726800-1822748400@colquittregional.com
SUMMARY:New Nurse Meditech Training
DESCRIPTION:
URL:https://colquittregional.com/event/new-nurse-meditech-training/2027-10-05/
CATEGORIES:Education Services Calendar
END:VEVENT
BEGIN:VEVENT
DTSTART;TZID=UTC:20271102T090000
DTEND;TZID=UTC:20271102T150000
DTSTAMP:20260419T141457
CREATED:20250909T122048Z
LAST-MODIFIED:20250909T122048Z
UID:10000074-1825146000-1825167600@colquittregional.com
SUMMARY:New Nurse Meditech Training
DESCRIPTION:
URL:https://colquittregional.com/event/new-nurse-meditech-training/2027-11-02/
CATEGORIES:Education Services Calendar
END:VEVENT
BEGIN:VEVENT
DTSTART;TZID=UTC:20271207T090000
DTEND;TZID=UTC:20271207T150000
DTSTAMP:20260419T141457
CREATED:20250909T122048Z
LAST-MODIFIED:20250909T122048Z
UID:10000075-1828170000-1828191600@colquittregional.com
SUMMARY:New Nurse Meditech Training
DESCRIPTION:
URL:https://colquittregional.com/event/new-nurse-meditech-training/2027-12-07/
CATEGORIES:Education Services Calendar
END:VEVENT
BEGIN:VEVENT
DTSTART;TZID=UTC:20280104T090000
DTEND;TZID=UTC:20280104T150000
DTSTAMP:20260419T141457
CREATED:20250909T122048Z
LAST-MODIFIED:20250909T122048Z
UID:10000076-1830589200-1830610800@colquittregional.com
SUMMARY:New Nurse Meditech Training
DESCRIPTION:
URL:https://colquittregional.com/event/new-nurse-meditech-training/2028-01-04/
CATEGORIES:Education Services Calendar
END:VEVENT
BEGIN:VEVENT
DTSTART;TZID=UTC:20280201T090000
DTEND;TZID=UTC:20280201T150000
DTSTAMP:20260419T141457
CREATED:20250909T122048Z
LAST-MODIFIED:20250909T122048Z
UID:10000077-1833008400-1833030000@colquittregional.com
SUMMARY:New Nurse Meditech Training
DESCRIPTION:
URL:https://colquittregional.com/event/new-nurse-meditech-training/2028-02-01/
CATEGORIES:Education Services Calendar
END:VEVENT
BEGIN:VEVENT
DTSTART;TZID=UTC:20280307T090000
DTEND;TZID=UTC:20280307T150000
DTSTAMP:20260419T141457
CREATED:20250909T122048Z
LAST-MODIFIED:20250909T122048Z
UID:10000078-1836032400-1836054000@colquittregional.com
SUMMARY:New Nurse Meditech Training
DESCRIPTION:
URL:https://colquittregional.com/event/new-nurse-meditech-training/2028-03-07/
CATEGORIES:Education Services Calendar
END:VEVENT
BEGIN:VEVENT
DTSTART;TZID=UTC:20280404T090000
DTEND;TZID=UTC:20280404T150000
DTSTAMP:20260419T141457
CREATED:20250909T122048Z
LAST-MODIFIED:20250909T122048Z
UID:10000079-1838451600-1838473200@colquittregional.com
SUMMARY:New Nurse Meditech Training
DESCRIPTION:
URL:https://colquittregional.com/event/new-nurse-meditech-training/2028-04-04/
CATEGORIES:Education Services Calendar
END:VEVENT
BEGIN:VEVENT
DTSTART;TZID=UTC:20280502T090000
DTEND;TZID=UTC:20280502T150000
DTSTAMP:20260419T141457
CREATED:20250909T122048Z
LAST-MODIFIED:20250909T122048Z
UID:10000080-1840870800-1840892400@colquittregional.com
SUMMARY:New Nurse Meditech Training
DESCRIPTION:
URL:https://colquittregional.com/event/new-nurse-meditech-training/2028-05-02/
CATEGORIES:Education Services Calendar
END:VEVENT
BEGIN:VEVENT
DTSTART;TZID=UTC:20280606T090000
DTEND;TZID=UTC:20280606T150000
DTSTAMP:20260419T141457
CREATED:20250909T122048Z
LAST-MODIFIED:20250909T122048Z
UID:10000081-1843894800-1843916400@colquittregional.com
SUMMARY:New Nurse Meditech Training
DESCRIPTION:
URL:https://colquittregional.com/event/new-nurse-meditech-training/2028-06-06/
CATEGORIES:Education Services Calendar
END:VEVENT
BEGIN:VEVENT
DTSTART;TZID=UTC:20280704T090000
DTEND;TZID=UTC:20280704T150000
DTSTAMP:20260419T141457
CREATED:20250909T122048Z
LAST-MODIFIED:20250909T122048Z
UID:10000082-1846314000-1846335600@colquittregional.com
SUMMARY:New Nurse Meditech Training
DESCRIPTION:
URL:https://colquittregional.com/event/new-nurse-meditech-training/2028-07-04/
CATEGORIES:Education Services Calendar
END:VEVENT
BEGIN:VEVENT
DTSTART;TZID=UTC:20280801T090000
DTEND;TZID=UTC:20280801T150000
DTSTAMP:20260419T141457
CREATED:20250909T122048Z
LAST-MODIFIED:20250909T122048Z
UID:10000083-1848733200-1848754800@colquittregional.com
SUMMARY:New Nurse Meditech Training
DESCRIPTION:
URL:https://colquittregional.com/event/new-nurse-meditech-training/2028-08-01/
CATEGORIES:Education Services Calendar
END:VEVENT
BEGIN:VEVENT
DTSTART;TZID=UTC:20280905T090000
DTEND;TZID=UTC:20280905T150000
DTSTAMP:20260419T141457
CREATED:20250909T122048Z
LAST-MODIFIED:20250909T122048Z
UID:10000084-1851757200-1851778800@colquittregional.com
SUMMARY:New Nurse Meditech Training
DESCRIPTION:
URL:https://colquittregional.com/event/new-nurse-meditech-training/2028-09-05/
CATEGORIES:Education Services Calendar
END:VEVENT
BEGIN:VEVENT
DTSTART;TZID=UTC:20281003T090000
DTEND;TZID=UTC:20281003T150000
DTSTAMP:20260419T141457
CREATED:20250909T122048Z
LAST-MODIFIED:20250909T122048Z
UID:10000085-1854176400-1854198000@colquittregional.com
SUMMARY:New Nurse Meditech Training
DESCRIPTION:
URL:https://colquittregional.com/event/new-nurse-meditech-training/2028-10-03/
CATEGORIES:Education Services Calendar
END:VEVENT
END:VCALENDAR