BEGIN:VCALENDAR
VERSION:2.0
PRODID:-//Colquitt Regional Health System - ECPv6.15.17//NONSGML v1.0//EN
CALSCALE:GREGORIAN
METHOD:PUBLISH
X-ORIGINAL-URL:https://colquittregional.com
X-WR-CALDESC:Events for Colquitt Regional Health System
REFRESH-INTERVAL;VALUE=DURATION:PT1H
X-Robots-Tag:noindex
X-PUBLISHED-TTL:PT1H
BEGIN:VTIMEZONE
TZID:UTC
BEGIN:STANDARD
TZOFFSETFROM:+0000
TZOFFSETTO:+0000
TZNAME:UTC
DTSTART:20250101T000000
END:STANDARD
END:VTIMEZONE
BEGIN:VEVENT
DTSTART;TZID=UTC:20260429T133000
DTEND;TZID=UTC:20260429T173000
DTSTAMP:20260423T151000
CREATED:20250910T120307Z
LAST-MODIFIED:20250910T120307Z
UID:10000210-1777469400-1777483800@colquittregional.com
SUMMARY:Academic Half Day
DESCRIPTION:
URL:https://colquittregional.com/event/academic-half-day-2/2026-04-29/
LOCATION:Ameris Bank Medical Education Center
CATEGORIES:Education Services Calendar
END:VEVENT
BEGIN:VEVENT
DTSTART;TZID=UTC:20260506T133000
DTEND;TZID=UTC:20260506T173000
DTSTAMP:20260423T151000
CREATED:20250910T120307Z
LAST-MODIFIED:20250910T120307Z
UID:10000211-1778074200-1778088600@colquittregional.com
SUMMARY:Academic Half Day
DESCRIPTION:
URL:https://colquittregional.com/event/academic-half-day-2/2026-05-06/
LOCATION:Ameris Bank Medical Education Center
CATEGORIES:Education Services Calendar
END:VEVENT
BEGIN:VEVENT
DTSTART;TZID=UTC:20260513T133000
DTEND;TZID=UTC:20260513T173000
DTSTAMP:20260423T151000
CREATED:20250910T120307Z
LAST-MODIFIED:20250910T120307Z
UID:10000212-1778679000-1778693400@colquittregional.com
SUMMARY:Academic Half Day
DESCRIPTION:
URL:https://colquittregional.com/event/academic-half-day-2/2026-05-13/
LOCATION:Ameris Bank Medical Education Center
CATEGORIES:Education Services Calendar
END:VEVENT
BEGIN:VEVENT
DTSTART;TZID=UTC:20260520T133000
DTEND;TZID=UTC:20260520T173000
DTSTAMP:20260423T151000
CREATED:20250910T120307Z
LAST-MODIFIED:20250910T120307Z
UID:10000213-1779283800-1779298200@colquittregional.com
SUMMARY:Academic Half Day
DESCRIPTION:
URL:https://colquittregional.com/event/academic-half-day-2/2026-05-20/
LOCATION:Ameris Bank Medical Education Center
CATEGORIES:Education Services Calendar
END:VEVENT
BEGIN:VEVENT
DTSTART;TZID=UTC:20260527T133000
DTEND;TZID=UTC:20260527T173000
DTSTAMP:20260423T151000
CREATED:20250910T120307Z
LAST-MODIFIED:20250910T120307Z
UID:10000214-1779888600-1779903000@colquittregional.com
SUMMARY:Academic Half Day
DESCRIPTION:
URL:https://colquittregional.com/event/academic-half-day-2/2026-05-27/
LOCATION:Ameris Bank Medical Education Center
CATEGORIES:Education Services Calendar
END:VEVENT
BEGIN:VEVENT
DTSTART;TZID=UTC:20260603T133000
DTEND;TZID=UTC:20260603T173000
DTSTAMP:20260423T151000
CREATED:20250910T120307Z
LAST-MODIFIED:20250910T120307Z
UID:10000215-1780493400-1780507800@colquittregional.com
SUMMARY:Academic Half Day
DESCRIPTION:
URL:https://colquittregional.com/event/academic-half-day-2/2026-06-03/
LOCATION:Ameris Bank Medical Education Center
CATEGORIES:Education Services Calendar
END:VEVENT
BEGIN:VEVENT
DTSTART;TZID=UTC:20260610T133000
DTEND;TZID=UTC:20260610T173000
DTSTAMP:20260423T151000
CREATED:20250910T120307Z
LAST-MODIFIED:20250910T120307Z
UID:10000216-1781098200-1781112600@colquittregional.com
SUMMARY:Academic Half Day
DESCRIPTION:
URL:https://colquittregional.com/event/academic-half-day-2/2026-06-10/
LOCATION:Ameris Bank Medical Education Center
CATEGORIES:Education Services Calendar
END:VEVENT
BEGIN:VEVENT
DTSTART;TZID=UTC:20260617T133000
DTEND;TZID=UTC:20260617T173000
DTSTAMP:20260423T151000
CREATED:20250910T120307Z
LAST-MODIFIED:20250910T120307Z
UID:10000217-1781703000-1781717400@colquittregional.com
SUMMARY:Academic Half Day
DESCRIPTION:
URL:https://colquittregional.com/event/academic-half-day-2/2026-06-17/
LOCATION:Ameris Bank Medical Education Center
CATEGORIES:Education Services Calendar
END:VEVENT
BEGIN:VEVENT
DTSTART;TZID=UTC:20260624T133000
DTEND;TZID=UTC:20260624T173000
DTSTAMP:20260423T151000
CREATED:20250910T120307Z
LAST-MODIFIED:20250910T120307Z
UID:10000218-1782307800-1782322200@colquittregional.com
SUMMARY:Academic Half Day
DESCRIPTION:
URL:https://colquittregional.com/event/academic-half-day-2/2026-06-24/
LOCATION:Ameris Bank Medical Education Center
CATEGORIES:Education Services Calendar
END:VEVENT
BEGIN:VEVENT
DTSTART;TZID=UTC:20260701T133000
DTEND;TZID=UTC:20260701T173000
DTSTAMP:20260423T151000
CREATED:20250910T120307Z
LAST-MODIFIED:20250910T120307Z
UID:10000219-1782912600-1782927000@colquittregional.com
SUMMARY:Academic Half Day
DESCRIPTION:
URL:https://colquittregional.com/event/academic-half-day-2/2026-07-01/
LOCATION:Ameris Bank Medical Education Center
CATEGORIES:Education Services Calendar
END:VEVENT
BEGIN:VEVENT
DTSTART;TZID=UTC:20260708T133000
DTEND;TZID=UTC:20260708T173000
DTSTAMP:20260423T151000
CREATED:20250910T120307Z
LAST-MODIFIED:20250910T120307Z
UID:10000220-1783517400-1783531800@colquittregional.com
SUMMARY:Academic Half Day
DESCRIPTION:
URL:https://colquittregional.com/event/academic-half-day-2/2026-07-08/
LOCATION:Ameris Bank Medical Education Center
CATEGORIES:Education Services Calendar
END:VEVENT
BEGIN:VEVENT
DTSTART;TZID=UTC:20260715T133000
DTEND;TZID=UTC:20260715T173000
DTSTAMP:20260423T151000
CREATED:20250910T120307Z
LAST-MODIFIED:20250910T120307Z
UID:10000221-1784122200-1784136600@colquittregional.com
SUMMARY:Academic Half Day
DESCRIPTION:
URL:https://colquittregional.com/event/academic-half-day-2/2026-07-15/
LOCATION:Ameris Bank Medical Education Center
CATEGORIES:Education Services Calendar
END:VEVENT
BEGIN:VEVENT
DTSTART;TZID=UTC:20260722T133000
DTEND;TZID=UTC:20260722T173000
DTSTAMP:20260423T151000
CREATED:20250910T120307Z
LAST-MODIFIED:20250910T120307Z
UID:10000222-1784727000-1784741400@colquittregional.com
SUMMARY:Academic Half Day
DESCRIPTION:
URL:https://colquittregional.com/event/academic-half-day-2/2026-07-22/
LOCATION:Ameris Bank Medical Education Center
CATEGORIES:Education Services Calendar
END:VEVENT
BEGIN:VEVENT
DTSTART;TZID=UTC:20260729T133000
DTEND;TZID=UTC:20260729T173000
DTSTAMP:20260423T151000
CREATED:20250910T120307Z
LAST-MODIFIED:20250910T120307Z
UID:10000223-1785331800-1785346200@colquittregional.com
SUMMARY:Academic Half Day
DESCRIPTION:
URL:https://colquittregional.com/event/academic-half-day-2/2026-07-29/
LOCATION:Ameris Bank Medical Education Center
CATEGORIES:Education Services Calendar
END:VEVENT
BEGIN:VEVENT
DTSTART;TZID=UTC:20260805T133000
DTEND;TZID=UTC:20260805T173000
DTSTAMP:20260423T151000
CREATED:20250910T120307Z
LAST-MODIFIED:20250910T120307Z
UID:10000224-1785936600-1785951000@colquittregional.com
SUMMARY:Academic Half Day
DESCRIPTION:
URL:https://colquittregional.com/event/academic-half-day-2/2026-08-05/
LOCATION:Ameris Bank Medical Education Center
CATEGORIES:Education Services Calendar
END:VEVENT
BEGIN:VEVENT
DTSTART;TZID=UTC:20260812T133000
DTEND;TZID=UTC:20260812T173000
DTSTAMP:20260423T151000
CREATED:20250910T120307Z
LAST-MODIFIED:20250910T120307Z
UID:10000225-1786541400-1786555800@colquittregional.com
SUMMARY:Academic Half Day
DESCRIPTION:
URL:https://colquittregional.com/event/academic-half-day-2/2026-08-12/
LOCATION:Ameris Bank Medical Education Center
CATEGORIES:Education Services Calendar
END:VEVENT
BEGIN:VEVENT
DTSTART;TZID=UTC:20260819T133000
DTEND;TZID=UTC:20260819T173000
DTSTAMP:20260423T151000
CREATED:20250910T120307Z
LAST-MODIFIED:20250910T120307Z
UID:10000226-1787146200-1787160600@colquittregional.com
SUMMARY:Academic Half Day
DESCRIPTION:
URL:https://colquittregional.com/event/academic-half-day-2/2026-08-19/
LOCATION:Ameris Bank Medical Education Center
CATEGORIES:Education Services Calendar
END:VEVENT
BEGIN:VEVENT
DTSTART;TZID=UTC:20260826T133000
DTEND;TZID=UTC:20260826T173000
DTSTAMP:20260423T151000
CREATED:20250910T120307Z
LAST-MODIFIED:20250910T120307Z
UID:10000227-1787751000-1787765400@colquittregional.com
SUMMARY:Academic Half Day
DESCRIPTION:
URL:https://colquittregional.com/event/academic-half-day-2/2026-08-26/
LOCATION:Ameris Bank Medical Education Center
CATEGORIES:Education Services Calendar
END:VEVENT
BEGIN:VEVENT
DTSTART;TZID=UTC:20260902T133000
DTEND;TZID=UTC:20260902T173000
DTSTAMP:20260423T151000
CREATED:20250910T120307Z
LAST-MODIFIED:20250910T120307Z
UID:10000228-1788355800-1788370200@colquittregional.com
SUMMARY:Academic Half Day
DESCRIPTION:
URL:https://colquittregional.com/event/academic-half-day-2/2026-09-02/
LOCATION:Ameris Bank Medical Education Center
CATEGORIES:Education Services Calendar
END:VEVENT
BEGIN:VEVENT
DTSTART;TZID=UTC:20260909T133000
DTEND;TZID=UTC:20260909T173000
DTSTAMP:20260423T151000
CREATED:20250910T120307Z
LAST-MODIFIED:20250910T120307Z
UID:10000229-1788960600-1788975000@colquittregional.com
SUMMARY:Academic Half Day
DESCRIPTION:
URL:https://colquittregional.com/event/academic-half-day-2/2026-09-09/
LOCATION:Ameris Bank Medical Education Center
CATEGORIES:Education Services Calendar
END:VEVENT
BEGIN:VEVENT
DTSTART;TZID=UTC:20260916T133000
DTEND;TZID=UTC:20260916T173000
DTSTAMP:20260423T151000
CREATED:20250910T120307Z
LAST-MODIFIED:20250910T120307Z
UID:10000230-1789565400-1789579800@colquittregional.com
SUMMARY:Academic Half Day
DESCRIPTION:
URL:https://colquittregional.com/event/academic-half-day-2/2026-09-16/
LOCATION:Ameris Bank Medical Education Center
CATEGORIES:Education Services Calendar
END:VEVENT
BEGIN:VEVENT
DTSTART;TZID=UTC:20260923T133000
DTEND;TZID=UTC:20260923T173000
DTSTAMP:20260423T151000
CREATED:20250910T120307Z
LAST-MODIFIED:20250910T120307Z
UID:10000231-1790170200-1790184600@colquittregional.com
SUMMARY:Academic Half Day
DESCRIPTION:
URL:https://colquittregional.com/event/academic-half-day-2/2026-09-23/
LOCATION:Ameris Bank Medical Education Center
CATEGORIES:Education Services Calendar
END:VEVENT
BEGIN:VEVENT
DTSTART;TZID=UTC:20260930T133000
DTEND;TZID=UTC:20260930T173000
DTSTAMP:20260423T151000
CREATED:20250910T120307Z
LAST-MODIFIED:20250910T120307Z
UID:10000232-1790775000-1790789400@colquittregional.com
SUMMARY:Academic Half Day
DESCRIPTION:
URL:https://colquittregional.com/event/academic-half-day-2/2026-09-30/
LOCATION:Ameris Bank Medical Education Center
CATEGORIES:Education Services Calendar
END:VEVENT
BEGIN:VEVENT
DTSTART;TZID=UTC:20261007T133000
DTEND;TZID=UTC:20261007T173000
DTSTAMP:20260423T151000
CREATED:20250910T120307Z
LAST-MODIFIED:20250910T120307Z
UID:10000233-1791379800-1791394200@colquittregional.com
SUMMARY:Academic Half Day
DESCRIPTION:
URL:https://colquittregional.com/event/academic-half-day-2/2026-10-07/
LOCATION:Ameris Bank Medical Education Center
CATEGORIES:Education Services Calendar
END:VEVENT
BEGIN:VEVENT
DTSTART;TZID=UTC:20261014T133000
DTEND;TZID=UTC:20261014T173000
DTSTAMP:20260423T151000
CREATED:20250910T120307Z
LAST-MODIFIED:20250910T120307Z
UID:10000234-1791984600-1791999000@colquittregional.com
SUMMARY:Academic Half Day
DESCRIPTION:
URL:https://colquittregional.com/event/academic-half-day-2/2026-10-14/
LOCATION:Ameris Bank Medical Education Center
CATEGORIES:Education Services Calendar
END:VEVENT
BEGIN:VEVENT
DTSTART;TZID=UTC:20261021T133000
DTEND;TZID=UTC:20261021T173000
DTSTAMP:20260423T151000
CREATED:20250910T120307Z
LAST-MODIFIED:20250910T120307Z
UID:10000235-1792589400-1792603800@colquittregional.com
SUMMARY:Academic Half Day
DESCRIPTION:
URL:https://colquittregional.com/event/academic-half-day-2/2026-10-21/
LOCATION:Ameris Bank Medical Education Center
CATEGORIES:Education Services Calendar
END:VEVENT
BEGIN:VEVENT
DTSTART;TZID=UTC:20261028T133000
DTEND;TZID=UTC:20261028T173000
DTSTAMP:20260423T151000
CREATED:20250910T120307Z
LAST-MODIFIED:20250910T120307Z
UID:10000236-1793194200-1793208600@colquittregional.com
SUMMARY:Academic Half Day
DESCRIPTION:
URL:https://colquittregional.com/event/academic-half-day-2/2026-10-28/
LOCATION:Ameris Bank Medical Education Center
CATEGORIES:Education Services Calendar
END:VEVENT
BEGIN:VEVENT
DTSTART;TZID=UTC:20261104T133000
DTEND;TZID=UTC:20261104T173000
DTSTAMP:20260423T151000
CREATED:20250910T120307Z
LAST-MODIFIED:20250910T120307Z
UID:10000237-1793799000-1793813400@colquittregional.com
SUMMARY:Academic Half Day
DESCRIPTION:
URL:https://colquittregional.com/event/academic-half-day-2/2026-11-04/
LOCATION:Ameris Bank Medical Education Center
CATEGORIES:Education Services Calendar
END:VEVENT
BEGIN:VEVENT
DTSTART;TZID=UTC:20261111T133000
DTEND;TZID=UTC:20261111T173000
DTSTAMP:20260423T151000
CREATED:20250910T120307Z
LAST-MODIFIED:20250910T120307Z
UID:10000238-1794403800-1794418200@colquittregional.com
SUMMARY:Academic Half Day
DESCRIPTION:
URL:https://colquittregional.com/event/academic-half-day-2/2026-11-11/
LOCATION:Ameris Bank Medical Education Center
CATEGORIES:Education Services Calendar
END:VEVENT
BEGIN:VEVENT
DTSTART;TZID=UTC:20261118T133000
DTEND;TZID=UTC:20261118T173000
DTSTAMP:20260423T151000
CREATED:20250910T120307Z
LAST-MODIFIED:20250910T120307Z
UID:10000239-1795008600-1795023000@colquittregional.com
SUMMARY:Academic Half Day
DESCRIPTION:
URL:https://colquittregional.com/event/academic-half-day-2/2026-11-18/
LOCATION:Ameris Bank Medical Education Center
CATEGORIES:Education Services Calendar
END:VEVENT
END:VCALENDAR