BEGIN:VCALENDAR
VERSION:2.0
PRODID:-//Colquitt Regional Health System - ECPv6.15.17//NONSGML v1.0//EN
CALSCALE:GREGORIAN
METHOD:PUBLISH
X-WR-CALNAME:Colquitt Regional Health System
X-ORIGINAL-URL:https://colquittregional.com
X-WR-CALDESC:Events for Colquitt Regional Health System
REFRESH-INTERVAL;VALUE=DURATION:PT1H
X-Robots-Tag:noindex
X-PUBLISHED-TTL:PT1H
BEGIN:VTIMEZONE
TZID:UTC
BEGIN:STANDARD
TZOFFSETFROM:+0000
TZOFFSETTO:+0000
TZNAME:UTC
DTSTART:20280101T000000
END:STANDARD
END:VTIMEZONE
BEGIN:VEVENT
DTSTART;TZID=UTC:20290124T133000
DTEND;TZID=UTC:20290124T173000
DTSTAMP:20260420T041155
CREATED:20250910T120307Z
LAST-MODIFIED:20250910T120307Z
UID:10000353-1863955800-1863970200@colquittregional.com
SUMMARY:Academic Half Day
DESCRIPTION:
URL:https://colquittregional.com/event/academic-half-day-2/2029-01-24/
LOCATION:Ameris Bank Medical Education Center
CATEGORIES:Education Services Calendar
END:VEVENT
BEGIN:VEVENT
DTSTART;TZID=UTC:20290131T133000
DTEND;TZID=UTC:20290131T173000
DTSTAMP:20260420T041155
CREATED:20250910T120307Z
LAST-MODIFIED:20250910T120307Z
UID:10000354-1864560600-1864575000@colquittregional.com
SUMMARY:Academic Half Day
DESCRIPTION:
URL:https://colquittregional.com/event/academic-half-day-2/2029-01-31/
LOCATION:Ameris Bank Medical Education Center
CATEGORIES:Education Services Calendar
END:VEVENT
BEGIN:VEVENT
DTSTART;TZID=UTC:20290207T133000
DTEND;TZID=UTC:20290207T173000
DTSTAMP:20260420T041155
CREATED:20250910T120307Z
LAST-MODIFIED:20250910T120307Z
UID:10000355-1865165400-1865179800@colquittregional.com
SUMMARY:Academic Half Day
DESCRIPTION:
URL:https://colquittregional.com/event/academic-half-day-2/2029-02-07/
LOCATION:Ameris Bank Medical Education Center
CATEGORIES:Education Services Calendar
END:VEVENT
BEGIN:VEVENT
DTSTART;TZID=UTC:20290214T133000
DTEND;TZID=UTC:20290214T173000
DTSTAMP:20260420T041155
CREATED:20250910T120307Z
LAST-MODIFIED:20250910T120307Z
UID:10000356-1865770200-1865784600@colquittregional.com
SUMMARY:Academic Half Day
DESCRIPTION:
URL:https://colquittregional.com/event/academic-half-day-2/2029-02-14/
LOCATION:Ameris Bank Medical Education Center
CATEGORIES:Education Services Calendar
END:VEVENT
BEGIN:VEVENT
DTSTART;TZID=UTC:20290221T133000
DTEND;TZID=UTC:20290221T173000
DTSTAMP:20260420T041155
CREATED:20250910T120307Z
LAST-MODIFIED:20250910T120307Z
UID:10000357-1866375000-1866389400@colquittregional.com
SUMMARY:Academic Half Day
DESCRIPTION:
URL:https://colquittregional.com/event/academic-half-day-2/2029-02-21/
LOCATION:Ameris Bank Medical Education Center
CATEGORIES:Education Services Calendar
END:VEVENT
BEGIN:VEVENT
DTSTART;TZID=UTC:20290228T133000
DTEND;TZID=UTC:20290228T173000
DTSTAMP:20260420T041155
CREATED:20250910T120307Z
LAST-MODIFIED:20250910T120307Z
UID:10000358-1866979800-1866994200@colquittregional.com
SUMMARY:Academic Half Day
DESCRIPTION:
URL:https://colquittregional.com/event/academic-half-day-2/2029-02-28/
LOCATION:Ameris Bank Medical Education Center
CATEGORIES:Education Services Calendar
END:VEVENT
BEGIN:VEVENT
DTSTART;TZID=UTC:20290307T133000
DTEND;TZID=UTC:20290307T173000
DTSTAMP:20260420T041155
CREATED:20250910T120307Z
LAST-MODIFIED:20250910T120307Z
UID:10000359-1867584600-1867599000@colquittregional.com
SUMMARY:Academic Half Day
DESCRIPTION:
URL:https://colquittregional.com/event/academic-half-day-2/2029-03-07/
LOCATION:Ameris Bank Medical Education Center
CATEGORIES:Education Services Calendar
END:VEVENT
BEGIN:VEVENT
DTSTART;TZID=UTC:20290314T133000
DTEND;TZID=UTC:20290314T173000
DTSTAMP:20260420T041155
CREATED:20250910T120307Z
LAST-MODIFIED:20250910T120307Z
UID:10000360-1868189400-1868203800@colquittregional.com
SUMMARY:Academic Half Day
DESCRIPTION:
URL:https://colquittregional.com/event/academic-half-day-2/2029-03-14/
LOCATION:Ameris Bank Medical Education Center
CATEGORIES:Education Services Calendar
END:VEVENT
BEGIN:VEVENT
DTSTART;TZID=UTC:20290321T133000
DTEND;TZID=UTC:20290321T173000
DTSTAMP:20260420T041155
CREATED:20250910T120307Z
LAST-MODIFIED:20250910T120307Z
UID:10000361-1868794200-1868808600@colquittregional.com
SUMMARY:Academic Half Day
DESCRIPTION:
URL:https://colquittregional.com/event/academic-half-day-2/2029-03-21/
LOCATION:Ameris Bank Medical Education Center
CATEGORIES:Education Services Calendar
END:VEVENT
BEGIN:VEVENT
DTSTART;TZID=UTC:20290328T133000
DTEND;TZID=UTC:20290328T173000
DTSTAMP:20260420T041155
CREATED:20250910T120307Z
LAST-MODIFIED:20250910T120307Z
UID:10000362-1869399000-1869413400@colquittregional.com
SUMMARY:Academic Half Day
DESCRIPTION:
URL:https://colquittregional.com/event/academic-half-day-2/2029-03-28/
LOCATION:Ameris Bank Medical Education Center
CATEGORIES:Education Services Calendar
END:VEVENT
BEGIN:VEVENT
DTSTART;TZID=UTC:20290404T133000
DTEND;TZID=UTC:20290404T173000
DTSTAMP:20260420T041155
CREATED:20250910T120307Z
LAST-MODIFIED:20250910T120307Z
UID:10000363-1870003800-1870018200@colquittregional.com
SUMMARY:Academic Half Day
DESCRIPTION:
URL:https://colquittregional.com/event/academic-half-day-2/2029-04-04/
LOCATION:Ameris Bank Medical Education Center
CATEGORIES:Education Services Calendar
END:VEVENT
BEGIN:VEVENT
DTSTART;TZID=UTC:20290411T133000
DTEND;TZID=UTC:20290411T173000
DTSTAMP:20260420T041155
CREATED:20250910T120307Z
LAST-MODIFIED:20250910T120307Z
UID:10000364-1870608600-1870623000@colquittregional.com
SUMMARY:Academic Half Day
DESCRIPTION:
URL:https://colquittregional.com/event/academic-half-day-2/2029-04-11/
LOCATION:Ameris Bank Medical Education Center
CATEGORIES:Education Services Calendar
END:VEVENT
BEGIN:VEVENT
DTSTART;TZID=UTC:20290418T133000
DTEND;TZID=UTC:20290418T173000
DTSTAMP:20260420T041155
CREATED:20250910T120307Z
LAST-MODIFIED:20250910T120307Z
UID:10000365-1871213400-1871227800@colquittregional.com
SUMMARY:Academic Half Day
DESCRIPTION:
URL:https://colquittregional.com/event/academic-half-day-2/2029-04-18/
LOCATION:Ameris Bank Medical Education Center
CATEGORIES:Education Services Calendar
END:VEVENT
BEGIN:VEVENT
DTSTART;TZID=UTC:20290425T133000
DTEND;TZID=UTC:20290425T173000
DTSTAMP:20260420T041155
CREATED:20250910T120307Z
LAST-MODIFIED:20250910T120307Z
UID:10000366-1871818200-1871832600@colquittregional.com
SUMMARY:Academic Half Day
DESCRIPTION:
URL:https://colquittregional.com/event/academic-half-day-2/2029-04-25/
LOCATION:Ameris Bank Medical Education Center
CATEGORIES:Education Services Calendar
END:VEVENT
BEGIN:VEVENT
DTSTART;TZID=UTC:20290502T133000
DTEND;TZID=UTC:20290502T173000
DTSTAMP:20260420T041155
CREATED:20250910T120307Z
LAST-MODIFIED:20250910T120307Z
UID:10000367-1872423000-1872437400@colquittregional.com
SUMMARY:Academic Half Day
DESCRIPTION:
URL:https://colquittregional.com/event/academic-half-day-2/2029-05-02/
LOCATION:Ameris Bank Medical Education Center
CATEGORIES:Education Services Calendar
END:VEVENT
BEGIN:VEVENT
DTSTART;TZID=UTC:20290509T133000
DTEND;TZID=UTC:20290509T173000
DTSTAMP:20260420T041155
CREATED:20250910T120307Z
LAST-MODIFIED:20250910T120307Z
UID:10000368-1873027800-1873042200@colquittregional.com
SUMMARY:Academic Half Day
DESCRIPTION:
URL:https://colquittregional.com/event/academic-half-day-2/2029-05-09/
LOCATION:Ameris Bank Medical Education Center
CATEGORIES:Education Services Calendar
END:VEVENT
BEGIN:VEVENT
DTSTART;TZID=UTC:20290516T133000
DTEND;TZID=UTC:20290516T173000
DTSTAMP:20260420T041155
CREATED:20250910T120307Z
LAST-MODIFIED:20250910T120307Z
UID:10000369-1873632600-1873647000@colquittregional.com
SUMMARY:Academic Half Day
DESCRIPTION:
URL:https://colquittregional.com/event/academic-half-day-2/2029-05-16/
LOCATION:Ameris Bank Medical Education Center
CATEGORIES:Education Services Calendar
END:VEVENT
BEGIN:VEVENT
DTSTART;TZID=UTC:20290523T133000
DTEND;TZID=UTC:20290523T173000
DTSTAMP:20260420T041155
CREATED:20250910T120307Z
LAST-MODIFIED:20250910T120307Z
UID:10000370-1874237400-1874251800@colquittregional.com
SUMMARY:Academic Half Day
DESCRIPTION:
URL:https://colquittregional.com/event/academic-half-day-2/2029-05-23/
LOCATION:Ameris Bank Medical Education Center
CATEGORIES:Education Services Calendar
END:VEVENT
BEGIN:VEVENT
DTSTART;TZID=UTC:20290530T133000
DTEND;TZID=UTC:20290530T173000
DTSTAMP:20260420T041155
CREATED:20250910T120307Z
LAST-MODIFIED:20250910T120307Z
UID:10000371-1874842200-1874856600@colquittregional.com
SUMMARY:Academic Half Day
DESCRIPTION:
URL:https://colquittregional.com/event/academic-half-day-2/2029-05-30/
LOCATION:Ameris Bank Medical Education Center
CATEGORIES:Education Services Calendar
END:VEVENT
BEGIN:VEVENT
DTSTART;TZID=UTC:20290606T133000
DTEND;TZID=UTC:20290606T173000
DTSTAMP:20260420T041155
CREATED:20250910T120307Z
LAST-MODIFIED:20250910T120307Z
UID:10000372-1875447000-1875461400@colquittregional.com
SUMMARY:Academic Half Day
DESCRIPTION:
URL:https://colquittregional.com/event/academic-half-day-2/2029-06-06/
LOCATION:Ameris Bank Medical Education Center
CATEGORIES:Education Services Calendar
END:VEVENT
BEGIN:VEVENT
DTSTART;TZID=UTC:20290613T133000
DTEND;TZID=UTC:20290613T173000
DTSTAMP:20260420T041155
CREATED:20250910T120307Z
LAST-MODIFIED:20250910T120307Z
UID:10000373-1876051800-1876066200@colquittregional.com
SUMMARY:Academic Half Day
DESCRIPTION:
URL:https://colquittregional.com/event/academic-half-day-2/2029-06-13/
LOCATION:Ameris Bank Medical Education Center
CATEGORIES:Education Services Calendar
END:VEVENT
BEGIN:VEVENT
DTSTART;TZID=UTC:20290620T133000
DTEND;TZID=UTC:20290620T173000
DTSTAMP:20260420T041155
CREATED:20250910T120307Z
LAST-MODIFIED:20250910T120307Z
UID:10000374-1876656600-1876671000@colquittregional.com
SUMMARY:Academic Half Day
DESCRIPTION:
URL:https://colquittregional.com/event/academic-half-day-2/2029-06-20/
LOCATION:Ameris Bank Medical Education Center
CATEGORIES:Education Services Calendar
END:VEVENT
BEGIN:VEVENT
DTSTART;TZID=UTC:20290627T133000
DTEND;TZID=UTC:20290627T173000
DTSTAMP:20260420T041155
CREATED:20250910T120307Z
LAST-MODIFIED:20250910T120307Z
UID:10000375-1877261400-1877275800@colquittregional.com
SUMMARY:Academic Half Day
DESCRIPTION:
URL:https://colquittregional.com/event/academic-half-day-2/2029-06-27/
LOCATION:Ameris Bank Medical Education Center
CATEGORIES:Education Services Calendar
END:VEVENT
BEGIN:VEVENT
DTSTART;TZID=UTC:20290704T133000
DTEND;TZID=UTC:20290704T173000
DTSTAMP:20260420T041155
CREATED:20250910T120307Z
LAST-MODIFIED:20250910T120307Z
UID:10000376-1877866200-1877880600@colquittregional.com
SUMMARY:Academic Half Day
DESCRIPTION:
URL:https://colquittregional.com/event/academic-half-day-2/2029-07-04/
LOCATION:Ameris Bank Medical Education Center
CATEGORIES:Education Services Calendar
END:VEVENT
BEGIN:VEVENT
DTSTART;TZID=UTC:20290711T133000
DTEND;TZID=UTC:20290711T173000
DTSTAMP:20260420T041155
CREATED:20250910T120307Z
LAST-MODIFIED:20250910T120307Z
UID:10000377-1878471000-1878485400@colquittregional.com
SUMMARY:Academic Half Day
DESCRIPTION:
URL:https://colquittregional.com/event/academic-half-day-2/2029-07-11/
LOCATION:Ameris Bank Medical Education Center
CATEGORIES:Education Services Calendar
END:VEVENT
BEGIN:VEVENT
DTSTART;TZID=UTC:20290718T133000
DTEND;TZID=UTC:20290718T173000
DTSTAMP:20260420T041155
CREATED:20250910T120307Z
LAST-MODIFIED:20250910T120307Z
UID:10000378-1879075800-1879090200@colquittregional.com
SUMMARY:Academic Half Day
DESCRIPTION:
URL:https://colquittregional.com/event/academic-half-day-2/2029-07-18/
LOCATION:Ameris Bank Medical Education Center
CATEGORIES:Education Services Calendar
END:VEVENT
BEGIN:VEVENT
DTSTART;TZID=UTC:20290725T133000
DTEND;TZID=UTC:20290725T173000
DTSTAMP:20260420T041155
CREATED:20250910T120307Z
LAST-MODIFIED:20250910T120307Z
UID:10000379-1879680600-1879695000@colquittregional.com
SUMMARY:Academic Half Day
DESCRIPTION:
URL:https://colquittregional.com/event/academic-half-day-2/2029-07-25/
LOCATION:Ameris Bank Medical Education Center
CATEGORIES:Education Services Calendar
END:VEVENT
BEGIN:VEVENT
DTSTART;TZID=UTC:20290801T133000
DTEND;TZID=UTC:20290801T173000
DTSTAMP:20260420T041155
CREATED:20250910T120307Z
LAST-MODIFIED:20250910T120307Z
UID:10000380-1880285400-1880299800@colquittregional.com
SUMMARY:Academic Half Day
DESCRIPTION:
URL:https://colquittregional.com/event/academic-half-day-2/2029-08-01/
LOCATION:Ameris Bank Medical Education Center
CATEGORIES:Education Services Calendar
END:VEVENT
BEGIN:VEVENT
DTSTART;TZID=UTC:20290808T133000
DTEND;TZID=UTC:20290808T173000
DTSTAMP:20260420T041155
CREATED:20250910T120307Z
LAST-MODIFIED:20250910T120307Z
UID:10000381-1880890200-1880904600@colquittregional.com
SUMMARY:Academic Half Day
DESCRIPTION:
URL:https://colquittregional.com/event/academic-half-day-2/2029-08-08/
LOCATION:Ameris Bank Medical Education Center
CATEGORIES:Education Services Calendar
END:VEVENT
BEGIN:VEVENT
DTSTART;TZID=UTC:20290815T133000
DTEND;TZID=UTC:20290815T173000
DTSTAMP:20260420T041155
CREATED:20250910T120307Z
LAST-MODIFIED:20250910T120307Z
UID:10000382-1881495000-1881509400@colquittregional.com
SUMMARY:Academic Half Day
DESCRIPTION:
URL:https://colquittregional.com/event/academic-half-day-2/2029-08-15/
LOCATION:Ameris Bank Medical Education Center
CATEGORIES:Education Services Calendar
END:VEVENT
END:VCALENDAR